BEGIN:VCALENDAR
PRODID:-//eluceo/ical//2.0/EN
VERSION:2.0
CALSCALE:GREGORIAN
BEGIN:VEVENT
UID:df1ff67b590fe6d8cf6b920965a70757
DTSTAMP:20260420T121238Z
SUMMARY:Transformation with Data: Believe. Inspire. Execute.
DTSTART:20201202T010000Z
DTEND:20201202T021500Z
END:VEVENT
END:VCALENDAR
