BEGIN:VCALENDAR
PRODID:-//eluceo/ical//2.0/EN
VERSION:2.0
CALSCALE:GREGORIAN
BEGIN:VEVENT
UID:d77d2222568d36b67905b87053d5afd7
DTSTAMP:20260419T204120Z
SUMMARY:Bay Area Part-Time MBA Round 1 Application Deadline
DTSTART:20231018T070000Z
DTEND:20231019T065900Z
END:VEVENT
END:VCALENDAR
