BEGIN:VCALENDAR
PRODID:-//eluceo/ical//2.0/EN
VERSION:2.0
CALSCALE:GREGORIAN
BEGIN:VEVENT
UID:e481550d3b711e14f1f88f4859dd2d62
DTSTAMP:20260420T105219Z
SUMMARY:Bay Area Part-Time MBA Round 3 Application Deadline
DTSTART:20240313T070000Z
DTEND:20240314T065900Z
END:VEVENT
END:VCALENDAR
