BEGIN:VCALENDAR
PRODID:-//eluceo/ical//2.0/EN
VERSION:2.0
CALSCALE:GREGORIAN
BEGIN:VEVENT
UID:18a02e3dfeff7c6b1701aed6e3df0fa6
DTSTAMP:20260419T223518Z
SUMMARY:Access MBA: San Francisco
DTSTART:20230923T170000Z
DTEND:20230923T220000Z
END:VEVENT
END:VCALENDAR
