BEGIN:VCALENDAR
PRODID:-//eluceo/ical//2.0/EN
VERSION:2.0
CALSCALE:GREGORIAN
BEGIN:VEVENT
UID:1d292832d5477f6d036e804699d38682
DTSTAMP:20260425T202850Z
SUMMARY:Access MBA: Los Angeles
DTSTART:20230924T180000Z
DTEND:20230924T220000Z
END:VEVENT
END:VCALENDAR
