BEGIN:VCALENDAR
PRODID:-//eluceo/ical//2.0/EN
VERSION:2.0
CALSCALE:GREGORIAN
BEGIN:VEVENT
UID:0ce1c036922769d3f0a1e920fea55713
DTSTAMP:20260422T171618Z
SUMMARY:Meet the Firms
DTSTART:20230920T160000Z
DTEND:20230920T190000Z
END:VEVENT
END:VCALENDAR
