BEGIN:VCALENDAR
PRODID:-//eluceo/ical//2.0/EN
VERSION:2.0
CALSCALE:GREGORIAN
BEGIN:VEVENT
UID:af0a8749045dbe71321d8c01552fb534
DTSTAMP:20260419T231525Z
SUMMARY:GSM Hiking Group @ Lands End 
DTSTART:20230827T163000Z
DTEND:20230827T200000Z
END:VEVENT
END:VCALENDAR
