BEGIN:VCALENDAR
PRODID:-//eluceo/ical//2.0/EN
VERSION:2.0
CALSCALE:GREGORIAN
BEGIN:VEVENT
UID:0a061d4d117b24f68a21572f1fe0b35d
DTSTAMP:20260422T114523Z
SUMMARY:UC Davis Big Bang! Workshop Series: Making the Leap
DTSTART:20231102T000000Z
DTEND:20231102T020000Z
END:VEVENT
END:VCALENDAR
