BEGIN:VCALENDAR
PRODID:-//eluceo/ical//2.0/EN
VERSION:2.0
CALSCALE:GREGORIAN
BEGIN:VEVENT
UID:276ce586dc9d2c80466f8dbb75ea3a17
DTSTAMP:20260423T010443Z
SUMMARY:UC Davis Big Bang! Workshop Series: Write to Win: Your Executive Su
 mmary
DTSTART:20240118T010000Z
DTEND:20240118T030000Z
END:VEVENT
END:VCALENDAR
