BEGIN:VCALENDAR
PRODID:-//eluceo/ical//2.0/EN
VERSION:2.0
CALSCALE:GREGORIAN
BEGIN:VEVENT
UID:d5612bc39262d404a6f14a5921968166
DTSTAMP:20260420T074906Z
SUMMARY:Full-Time MBA Class Visit: Individual and Group Dynamics
DTSTART:20231128T211000Z
DTEND:20231129T010000Z
END:VEVENT
END:VCALENDAR
