BEGIN:VCALENDAR
PRODID:-//eluceo/ical//2.0/EN
VERSION:2.0
CALSCALE:GREGORIAN
BEGIN:VEVENT
UID:672826937d26aa42de09497f5ee9a77d
DTSTAMP:20260420T004146Z
SUMMARY:Full-Time MBA Bowling Night at Memorial Union
DTSTART:20230926T010000Z
DTEND:20230926T033000Z
END:VEVENT
END:VCALENDAR
