BEGIN:VCALENDAR
PRODID:-//eluceo/ical//2.0/EN
VERSION:2.0
CALSCALE:GREGORIAN
BEGIN:VEVENT
UID:a328e5a12149cd4484c0968aa685e23e
DTSTAMP:20260421T191522Z
SUMMARY:Bay Area Part-Time MBA Class Visit: Decision Analytics
DTSTART:20240210T213000Z
DTEND:20240211T003000Z
END:VEVENT
END:VCALENDAR
