BEGIN:VCALENDAR
PRODID:-//eluceo/ical//2.0/EN
VERSION:2.0
CALSCALE:GREGORIAN
BEGIN:VEVENT
UID:6741a69f7bd5ff9cf9c3ecc34c528705
DTSTAMP:20260422T180624Z
SUMMARY: Access MBA: San Francisco
DTSTART:20240128T183000Z
DTEND:20240128T221500Z
END:VEVENT
END:VCALENDAR
