BEGIN:VCALENDAR
PRODID:-//eluceo/ical//2.0/EN
VERSION:2.0
CALSCALE:GREGORIAN
BEGIN:VEVENT
UID:339b6eff418c30111c9a5047b8628922
DTSTAMP:20260422T025032Z
SUMMARY:Access MBA:  Los Angeles
DTSTART:20240127T193000Z
DTEND:20240127T230000Z
END:VEVENT
END:VCALENDAR
