BEGIN:VCALENDAR
PRODID:-//eluceo/ical//2.0/EN
VERSION:2.0
CALSCALE:GREGORIAN
BEGIN:VEVENT
UID:7a38c7e8e38561c89f224a9468cbab75
DTSTAMP:20260425T224518Z
SUMMARY:The MBA Tour: Spotlight on STEM MBA & Master's
DTSTART:20240220T140000Z
DTEND:20240220T163000Z
END:VEVENT
END:VCALENDAR
