BEGIN:VCALENDAR
PRODID:-//eluceo/ical//2.0/EN
VERSION:2.0
CALSCALE:GREGORIAN
BEGIN:VEVENT
UID:49c380f21e20c8030e6d8ed0387dfa70
DTSTAMP:20260422T175200Z
SUMMARY:MPAc Class Visit: Accounting Information and Control Systems
DTSTART:20240129T180000Z
DTEND:20240129T200000Z
END:VEVENT
END:VCALENDAR
