BEGIN:VCALENDAR
PRODID:-//eluceo/ical//2.0/EN
VERSION:2.0
CALSCALE:GREGORIAN
BEGIN:VEVENT
UID:c306d8f0db68f8099bc2907092669e1e
DTSTAMP:20260420T191729Z
SUMMARY:MBA Industry Immersion Networking Event with Career Development
DTSTART:20240315T230000Z
DTEND:20240316T010000Z
END:VEVENT
END:VCALENDAR
