BEGIN:VCALENDAR
PRODID:-//eluceo/ical//2.0/EN
VERSION:2.0
CALSCALE:GREGORIAN
BEGIN:VEVENT
UID:99365fcba6f1ac683b7e707db621baa2
DTSTAMP:20260424T090801Z
SUMMARY:Pal-entines day Mix & Mingle
DTSTART:20240217T013000Z
DTEND:20240217T033000Z
END:VEVENT
END:VCALENDAR
