BEGIN:VCALENDAR
PRODID:-//eluceo/ical//2.0/EN
VERSION:2.0
CALSCALE:GREGORIAN
BEGIN:VEVENT
UID:63df4e6ccbed6b96d0cb6b8ebcb27874
DTSTAMP:20260419T193546Z
SUMMARY:Online MBA Program Residential: Game Theory & Competitive Strategy 
DTSTART:20240308T200000Z
DTEND:20240310T190000Z
END:VEVENT
END:VCALENDAR
