BEGIN:VCALENDAR
PRODID:-//eluceo/ical//2.0/EN
VERSION:2.0
CALSCALE:GREGORIAN
BEGIN:VEVENT
UID:450fec0ad2f628028c618992b4bfb1ab
DTSTAMP:20260420T004141Z
SUMMARY:MPAc Round 5 Application Deadline for International Applicants
DTSTART:20240610T070000Z
DTEND:20240611T065900Z
END:VEVENT
END:VCALENDAR
