BEGIN:VCALENDAR
PRODID:-//eluceo/ical//2.0/EN
VERSION:2.0
CALSCALE:GREGORIAN
BEGIN:VEVENT
UID:b532dbd799fbda67fd81b5bf721c1096
DTSTAMP:20260420T210628Z
SUMMARY:MBA Class Visit in San Ramon: Pricing
DTSTART:20240817T163000Z
DTEND:20240817T193000Z
END:VEVENT
END:VCALENDAR
