BEGIN:VCALENDAR
PRODID:-//eluceo/ical//2.0/EN
VERSION:2.0
CALSCALE:GREGORIAN
BEGIN:VEVENT
UID:881cd78a77a4a4b73b81d6103c582a3a
DTSTAMP:20260419T204727Z
SUMMARY:Sacramento Part-Time MBA Rolling Application Deadline
DTSTART:20240901T070000Z
DTEND:20240902T065900Z
END:VEVENT
END:VCALENDAR
