BEGIN:VCALENDAR
PRODID:-//eluceo/ical//2.0/EN
VERSION:2.0
CALSCALE:GREGORIAN
BEGIN:VEVENT
UID:b1105cbeae5b81885dd73ca6d34f7c0c
DTSTAMP:20260420T122748Z
SUMMARY:Metro EDGE - Executive Insight 2024
DTSTART:20240627T003000Z
DTEND:20240627T030000Z
END:VEVENT
END:VCALENDAR
