BEGIN:VCALENDAR
PRODID:-//eluceo/ical//2.0/EN
VERSION:2.0
CALSCALE:GREGORIAN
BEGIN:VEVENT
UID:b1f06add1ab595047878fc20bb6b77bf
DTSTAMP:20260425T102623Z
SUMMARY:QS Discover Master's Fair: Washington D.C.
DTSTART:20240910T070000Z
DTEND:20240911T065900Z
END:VEVENT
END:VCALENDAR
