BEGIN:VCALENDAR
PRODID:-//eluceo/ical//2.0/EN
VERSION:2.0
CALSCALE:GREGORIAN
BEGIN:VEVENT
UID:8a565e2886130912691c3ba715f0dc35
DTSTAMP:20260420T213747Z
SUMMARY:QS Discover Master's Fair: Austin
DTSTART:20241008T070000Z
DTEND:20241009T065900Z
END:VEVENT
END:VCALENDAR
