BEGIN:VCALENDAR
PRODID:-//eluceo/ical//2.0/EN
VERSION:2.0
CALSCALE:GREGORIAN
BEGIN:VEVENT
UID:cc4b975fec621f1e1651900608aca74f
DTSTAMP:20260423T091629Z
SUMMARY:Embracing Your Next Act: A Career Transitions Workshop
DTSTART:20240820T000000Z
DTEND:20240820T020000Z
END:VEVENT
END:VCALENDAR
