BEGIN:VCALENDAR
PRODID:-//eluceo/ical//2.0/EN
VERSION:2.0
CALSCALE:GREGORIAN
BEGIN:VEVENT
UID:11758152e139c48df3441b023335b744
DTSTAMP:20260425T025052Z
SUMMARY:MPAc Webinar: Application Workshop
DTSTART:20241106T200000Z
DTEND:20241106T210000Z
END:VEVENT
END:VCALENDAR
