BEGIN:VCALENDAR
PRODID:-//eluceo/ical//2.0/EN
VERSION:2.0
CALSCALE:GREGORIAN
BEGIN:VEVENT
UID:4c085a57383e75d1d5c7366fe24855e4
DTSTAMP:20260419T223701Z
SUMMARY:Bay Area Part-Time MBA Application Deadline: Round 3
DTSTART:20250319T070000Z
DTEND:20250320T065900Z
END:VEVENT
END:VCALENDAR
