BEGIN:VCALENDAR
PRODID:-//eluceo/ical//2.0/EN
VERSION:2.0
CALSCALE:GREGORIAN
BEGIN:VEVENT
UID:067330025d8932dd882ebd5b056dd1d4
DTSTAMP:20260420T191939Z
SUMMARY:Bay Area Part-Time MBA Application Deadline: Round 4 
DTSTART:20250507T070000Z
DTEND:20250508T065900Z
END:VEVENT
END:VCALENDAR
