BEGIN:VCALENDAR
PRODID:-//eluceo/ical//2.0/EN
VERSION:2.0
CALSCALE:GREGORIAN
BEGIN:VEVENT
UID:4a41eb1a3d0d298633c8441fe835e83c
DTSTAMP:20260424T205023Z
SUMMARY:MBA Virtual Office Hours: Information Session & Application Worksho
 p
DTSTART:20250430T190000Z
DTEND:20250430T200000Z
END:VEVENT
END:VCALENDAR
