BEGIN:VCALENDAR
PRODID:-//eluceo/ical//2.0/EN
VERSION:2.0
CALSCALE:GREGORIAN
BEGIN:VEVENT
UID:db6dd1b16aa1a667db3d8773e70bc423
DTSTAMP:20260419T193546Z
SUMMARY:UC Investments Academy
DTSTART:20241029T010000Z
DTEND:20241029T020000Z
END:VEVENT
END:VCALENDAR
