BEGIN:VCALENDAR
PRODID:-//eluceo/ical//2.0/EN
VERSION:2.0
CALSCALE:GREGORIAN
BEGIN:VEVENT
UID:9347eb2910709f4fa1cbcf7766198bc9
DTSTAMP:20260422T021515Z
SUMMARY:GSM Students Give Back to Their Communities
DTSTART:20241122T213000Z
DTEND:20241122T233000Z
END:VEVENT
BEGIN:VEVENT
UID:eca513e8016308d2cf09521bdc9f1572
DTSTAMP:20260422T021515Z
SUMMARY:GSM Students Give Back to Their Communities
DTSTART:20241126T170000Z
DTEND:20241126T200000Z
END:VEVENT
END:VCALENDAR
