BEGIN:VCALENDAR
PRODID:-//eluceo/ical//2.0/EN
VERSION:2.0
CALSCALE:GREGORIAN
BEGIN:VEVENT
UID:ff91dbbec75009ed4237c7682528e356
DTSTAMP:20260420T074929Z
SUMMARY:MPAc Student Ambassador Virtual Coffee Chat
DTSTART:20250408T190000Z
DTEND:20250408T200000Z
END:VEVENT
END:VCALENDAR
