BEGIN:VCALENDAR
PRODID:-//eluceo/ical//2.0/EN
VERSION:2.0
CALSCALE:GREGORIAN
BEGIN:VEVENT
UID:0b509c6da1be9dc963c24c2c0c52ffc9
DTSTAMP:20260420T213747Z
SUMMARY:Full-Time MBA Drop-in Office Hours & Informational Session
DTSTART:20250326T230000Z
DTEND:20250326T234500Z
END:VEVENT
END:VCALENDAR
