BEGIN:VCALENDAR
PRODID:-//eluceo/ical//2.0/EN
VERSION:2.0
CALSCALE:GREGORIAN
BEGIN:VEVENT
UID:f9a2a403644618070cefe64ad6eb8993
DTSTAMP:20260419T215330Z
SUMMARY:Full-Time MBA Drop-in Office Hours & Informational Session
DTSTART:20250328T230000Z
DTEND:20250328T234500Z
END:VEVENT
END:VCALENDAR
