BEGIN:VCALENDAR
PRODID:-//eluceo/ical//2.0/EN
VERSION:2.0
CALSCALE:GREGORIAN
BEGIN:VEVENT
UID:5589a0f50fa6a6189419e90f1ae601fa
DTSTAMP:20260420T141007Z
SUMMARY:Full-Time MBA Drop-in Office Hours & Informational Session
DTSTART:20250409T230000Z
DTEND:20250409T234500Z
END:VEVENT
END:VCALENDAR
