BEGIN:VCALENDAR
PRODID:-//eluceo/ical//2.0/EN
VERSION:2.0
CALSCALE:GREGORIAN
BEGIN:VEVENT
UID:ce6fc23a4ccceb25d53cd3737cb0a022
DTSTAMP:20260423T062937Z
SUMMARY:Full-Time MBA Drop-in Office Hours & Informational Session
DTSTART:20250411T230000Z
DTEND:20250411T234500Z
END:VEVENT
END:VCALENDAR
