BEGIN:VCALENDAR
PRODID:-//eluceo/ical//2.0/EN
VERSION:2.0
CALSCALE:GREGORIAN
BEGIN:VEVENT
UID:0cbee78d408bfa99964d894996cb1be8
DTSTAMP:20260419T234204Z
SUMMARY:Full-Time MBA Drop-in Office Hours & Informational Session
DTSTART:20250416T230000Z
DTEND:20250416T234500Z
END:VEVENT
END:VCALENDAR
