BEGIN:VCALENDAR
PRODID:-//eluceo/ical//2.0/EN
VERSION:2.0
CALSCALE:GREGORIAN
BEGIN:VEVENT
UID:01d499561a041ab14080d4827706f763
DTSTAMP:20260423T220347Z
SUMMARY:Full-Time MBA Drop-in Office Hours & Informational Session
DTSTART:20250421T230000Z
DTEND:20250421T234500Z
END:VEVENT
END:VCALENDAR
