BEGIN:VCALENDAR
PRODID:-//eluceo/ical//2.0/EN
VERSION:2.0
CALSCALE:GREGORIAN
BEGIN:VEVENT
UID:f3e79c01fc872c6efa2ea0773ee71cac
DTSTAMP:20260420T153853Z
SUMMARY:Full-Time MBA Drop-in Office Hours & Informational Session
DTSTART:20250425T230000Z
DTEND:20250425T234500Z
END:VEVENT
END:VCALENDAR
