BEGIN:VCALENDAR
PRODID:-//eluceo/ical//2.0/EN
VERSION:2.0
CALSCALE:GREGORIAN
BEGIN:VEVENT
UID:4d0a692f2896db9657dfa96813d26264
DTSTAMP:20260423T123120Z
SUMMARY:Full-Time MBA Drop-in Office Hours & Informational Session
DTSTART:20250428T230000Z
DTEND:20250428T234500Z
END:VEVENT
END:VCALENDAR
