BEGIN:VCALENDAR
PRODID:-//eluceo/ical//2.0/EN
VERSION:2.0
CALSCALE:GREGORIAN
BEGIN:VEVENT
UID:3776b96badb50fe1953a31fb5f7ab173
DTSTAMP:20260419T234218Z
SUMMARY:Master of Management Admissions Small Group Consultation
DTSTART:20250508T230000Z
DTEND:20250508T234500Z
END:VEVENT
END:VCALENDAR
