BEGIN:VCALENDAR
PRODID:-//eluceo/ical//2.0/EN
VERSION:2.0
CALSCALE:GREGORIAN
BEGIN:VEVENT
UID:ec96028a283de8ff67a1317075a253c2
DTSTAMP:20260424T154805Z
SUMMARY:Master of Management Admissions Small Group Consultation
DTSTART:20250513T230000Z
DTEND:20250513T234500Z
END:VEVENT
END:VCALENDAR
