BEGIN:VCALENDAR
PRODID:-//eluceo/ical//2.0/EN
VERSION:2.0
CALSCALE:GREGORIAN
BEGIN:VEVENT
UID:b52d4d5dae26c89f20e64d672e471f7d
DTSTAMP:20260422T061601Z
SUMMARY:Master of Management Admissions Small Group Consultation
DTSTART:20250520T230000Z
DTEND:20250520T234500Z
END:VEVENT
END:VCALENDAR
