BEGIN:VCALENDAR
PRODID:-//eluceo/ical//2.0/EN
VERSION:2.0
CALSCALE:GREGORIAN
BEGIN:VEVENT
UID:03c3ad3ca75348c081c28ed3298c5105
DTSTAMP:20260419T215329Z
SUMMARY:Master of Management Admissions Small Group Consultation
DTSTART:20250529T230000Z
DTEND:20250529T234500Z
END:VEVENT
END:VCALENDAR
