BEGIN:VCALENDAR
PRODID:-//eluceo/ical//2.0/EN
VERSION:2.0
CALSCALE:GREGORIAN
BEGIN:VEVENT
UID:a34251432375c71b2c562d50af689d65
DTSTAMP:20260419T231525Z
SUMMARY:Master of Management Admissions Small Group Consultation
DTSTART:20250603T230000Z
DTEND:20250603T234500Z
END:VEVENT
END:VCALENDAR
