BEGIN:VCALENDAR
PRODID:-//eluceo/ical//2.0/EN
VERSION:2.0
CALSCALE:GREGORIAN
BEGIN:VEVENT
UID:3398769add75401cfbb721107873ad60
DTSTAMP:20260419T234335Z
SUMMARY:Master of Management Admissions Small Group Consultation
DTSTART:20250605T230000Z
DTEND:20250605T234500Z
END:VEVENT
END:VCALENDAR
