BEGIN:VCALENDAR
PRODID:-//eluceo/ical//2.0/EN
VERSION:2.0
CALSCALE:GREGORIAN
BEGIN:VEVENT
UID:eb9311ddc31eeabe941ace1847160f29
DTSTAMP:20260419T214405Z
SUMMARY:Master of Management Admissions Small Group Consultation
DTSTART:20250612T230000Z
DTEND:20250612T234500Z
END:VEVENT
END:VCALENDAR
