BEGIN:VCALENDAR
PRODID:-//eluceo/ical//2.0/EN
VERSION:2.0
CALSCALE:GREGORIAN
BEGIN:VEVENT
UID:26b9fa32bf3b3110a7ed4f1018d0878f
DTSTAMP:20260420T191940Z
SUMMARY:The MBA Tour: Houston
DTSTART:20250724T223000Z
DTEND:20250725T020000Z
END:VEVENT
END:VCALENDAR
