BEGIN:VCALENDAR
PRODID:-//eluceo/ical//2.0/EN
VERSION:2.0
CALSCALE:GREGORIAN
BEGIN:VEVENT
UID:688e6d8132e910203f9c1890db522df7
DTSTAMP:20260419T234205Z
SUMMARY:Metro EDGE Executive Insight 2025
DTSTART:20250611T003000Z
DTEND:20250611T030000Z
END:VEVENT
END:VCALENDAR
